{"text_format":"2","workbook":"xlsx","n_sheets":11,"sheets":["2018","Aug 18","Sep 18","Oct 18","Nov 18","Dec 18","Jan 19","Feb 19","Mar 19","Apr 19","May 19"],"not_rendered":{"charts":0,"images":0,"macros":0,"external_links":0,"defined_names":0,"comments":0,"pivot_tables":0},"unopened":[],"bounds":{"document_bytes":16777216,"sheet_cells":100000,"run_cost":"one","rows_first":2000,"rows_last":500,"rows_between":2000,"halvings":0,"cell_chars":16384,"cell_head_chars":4096},"cells_cut":0,"cells_raw":0,"read":"whole","date_system":"1900"}

{"sheet":"2018","index":0,"n_rows":37,"n_cols":24,"rows_kept":37,"cut":false,"hidden":true,"merged":[[11,9,11,15],[11,17,11,23],[29,9,29,15],[20,9,20,15],[20,17,20,23],[20,1,20,7],[29,17,29,23],[29,1,29,7],[3,9,3,15],[0,1,0,23],[11,1,11,7],[3,17,3,23],[3,1,3,7]]}
[null,"2018"]
[]
[]
[null,"JANUARY",{"$nulls":7},"FEBRUARY",{"$nulls":7},"MARCH"]
[null,"S","M","T","W","T","F","S",null,"S","M","T","W","T","F","S",null,"S","M","T","W","T","F","S"]
[null,null,"2018-01-01","2018-01-02","2018-01-03","2018-01-04","2018-01-05","2018-01-06",{"$nulls":5},"2018-02-01","2018-02-02","2018-02-03",{"$nulls":5},"2018-03-01","2018-03-02","2018-03-03"]
[null,"2018-01-07","2018-01-08","2018-01-09","2018-01-10","2018-01-11","2018-01-12","2018-01-13",null,"2018-02-04","2018-02-05","2018-02-06","2018-02-07","2018-02-08","2018-02-09","2018-02-10",null,"2018-03-04","2018-03-05","2018-03-06","2018-03-07","2018-03-08","2018-03-09","2018-03-10"]
[null,"2018-01-14","2018-01-15","2018-01-16","2018-01-17","2018-01-18","2018-01-19","2018-01-20",null,"2018-02-11","2018-02-12","2018-02-13","2018-02-14","2018-02-15","2018-02-16","2018-02-17",null,"2018-03-11","2018-03-12","2018-03-13","2018-03-14","2018-03-15","2018-03-16","2018-03-17"]
[null,"2018-01-21","2018-01-22","2018-01-23","2018-01-24","2018-01-25","2018-01-26","2018-01-27",null,"2018-02-18","2018-02-19","2018-02-20","2018-02-21","2018-02-22","2018-02-23","2018-02-24",null,"2018-03-18","2018-03-19","2018-03-20","2018-03-21","2018-03-22","2018-03-23","2018-03-24"]
[null,"2018-01-28","2018-01-29","2018-01-30","2018-01-31",{"$nulls":4},"2018-02-25","2018-02-26","2018-02-27","2018-02-28",{"$nulls":4},"2018-03-25","2018-03-26","2018-03-27","2018-03-28","2018-03-29","2018-03-30","2018-03-31"]
[]
[null,"APRIL",{"$nulls":7},"MAY",{"$nulls":7},"JUNE"]
[null,"S","M","T","W","T","F","S",null,"S","M","T","W","T","F","S",null,"S","M","T","W","T","F","S"]
[null,"2018-04-01","2018-04-02","2018-04-03","2018-04-04","2018-04-05","2018-04-06","2018-04-07",null,null,null,"2018-05-01","2018-05-02","2018-05-03","2018-05-04","2018-05-05",{"$nulls":6},"2018-06-01","2018-06-02"]
[null,"2018-04-08","2018-04-09","2018-04-10","2018-04-11","2018-04-12","2018-04-13","2018-04-14",null,"2018-05-06","2018-05-07","2018-05-08","2018-05-09","2018-05-10","2018-05-11","2018-05-12",null,"2018-06-03","2018-06-04","2018-06-05","2018-06-06","2018-06-07","2018-06-08","2018-06-09"]
[null,"2018-04-15","2018-04-16","2018-04-17","2018-04-18","2018-04-19","2018-04-20","2018-04-21",null,"2018-05-13","2018-05-14","2018-05-15","2018-05-16","2018-05-17","2018-05-18","2018-05-19",null,"2018-06-10","2018-06-11","2018-06-12","2018-06-13","2018-06-14","2018-06-15","2018-06-16"]
[null,"2018-04-22","2018-04-23","2018-04-24","2018-04-25","2018-04-26","2018-04-27","2018-04-28",null,"2018-05-20","2018-05-21","2018-05-22","2018-05-23","2018-05-24","2018-05-25","2018-05-26",null,"2018-06-17","2018-06-18","2018-06-19","2018-06-20","2018-06-21","2018-06-22","2018-06-23"]
[null,"2018-04-29","2018-04-30",{"$nulls":6},"2018-05-27","2018-05-28","2018-05-29","2018-05-30","2018-05-31",null,null,null,"2018-06-24","2018-06-25","2018-06-26","2018-06-27","2018-06-28","2018-06-29","2018-06-30"]
[]
[]
[null,"JULY",{"$nulls":7},"AUGUST",{"$nulls":7},"SEPTEMBER"]
[null,"S","M","T","W","T","F","S",null,"S","M","T","W","T","F","S",null,"S","M","T","W","T","F","S"]
[null,"2018-07-01","2018-07-02","2018-07-03","2018-07-04","2018-07-05","2018-07-06","2018-07-07",{"$nulls":4},"2018-08-01","2018-08-02","2018-08-03","2018-08-04",{"$nulls":7},"2018-09-01"]
[null,"2018-07-08","2018-07-09","2018-07-10","2018-07-11","2018-07-12","2018-07-13","2018-07-14",null,"2018-08-05","2018-08-06","2018-08-07","2018-08-08","2018-08-09","2018-08-10","2018-08-11",null,"2018-09-02","2018-09-03","2018-09-04","2018-09-05","2018-09-06","2018-09-07","2018-09-08"]
[null,"2018-07-15","2018-07-16","2018-07-17","2018-07-18","2018-07-19","2018-07-20","2018-07-21",null,"2018-08-12","2018-08-13","2018-08-14","2018-08-15","2018-08-16","2018-08-17","2018-08-18",null,"2018-09-09","2018-09-10","2018-09-11","2018-09-12","2018-09-13","2018-09-14","2018-09-15"]
[null,"2018-07-22","2018-07-23","2018-07-24","2018-07-25","2018-07-26","2018-07-27","2018-07-28",null,"2018-08-19","2018-08-20","2018-08-21","2018-08-22","2018-08-23","2018-08-24","2018-08-25",null,"2018-09-16","2018-09-17","2018-09-18","2018-09-19","2018-09-20","2018-09-21","2018-09-22"]
[null,"2018-07-29","2018-07-30","2018-07-31",{"$nulls":5},"2018-08-26","2018-08-27","2018-08-28","2018-08-29","2018-08-30","2018-08-31",null,null,"2018-09-23","2018-09-24","2018-09-25","2018-09-26","2018-09-27","2018-09-28","2018-09-29"]
[{"$nulls":17},"2018-09-30"]
[]
[null,"OCTOBER",{"$nulls":7},"NOVEMBER",{"$nulls":7},"DECEMBER"]
[null,"S","M","T","W","T","F","S",null,"S","M","T","W","T","F","S",null,"S","M","T","W","T","F","S"]
[null,null,"2018-10-01","2018-10-02","2018-10-03","2018-10-04","2018-10-05","2018-10-06",{"$nulls":5},"2018-11-01","2018-11-02","2018-11-03",{"$nulls":7},"2018-12-01"]
[null,"2018-10-07","2018-10-08","2018-10-09","2018-10-10","2018-10-11","2018-10-12","2018-10-13",null,"2018-11-04","2018-11-05","2018-11-06","2018-11-07","2018-11-08","2018-11-09","2018-11-10",null,"2018-12-02","2018-12-03","2018-12-04","2018-12-05","2018-12-06","2018-12-07","2018-12-08"]
[null,"2018-10-14","2018-10-15","2018-10-16","2018-10-17","2018-10-18","2018-10-19","2018-10-20",null,"2018-11-11","2018-11-12","2018-11-13","2018-11-14","2018-11-15","2018-11-16","2018-11-17",null,"2018-12-09","2018-12-10","2018-12-11","2018-12-12","2018-12-13","2018-12-14","2018-12-15"]
[null,"2018-10-21","2018-10-22","2018-10-23","2018-10-24","2018-10-25","2018-10-26","2018-10-27",null,"2018-11-18","2018-11-19","2018-11-20","2018-11-21","2018-11-22","2018-11-23","2018-11-24",null,"2018-12-16","2018-12-17","2018-12-18","2018-12-19","2018-12-20","2018-12-21","2018-12-22"]
[null,"2018-10-28","2018-10-29","2018-10-30","2018-10-31",{"$nulls":4},"2018-11-25","2018-11-26","2018-11-27","2018-11-28","2018-11-29","2018-11-30",null,null,"2018-12-23","2018-12-24","2018-12-25","2018-12-26","2018-12-27","2018-12-28","2018-12-29"]
[{"$nulls":17},"2018-12-30","2018-12-31"]

{"sheet":"Aug 18","index":1,"n_rows":24,"n_cols":8,"rows_kept":24,"cut":false,"hidden":false,"merged":[[0,1,0,3],[16,1,16,7],[18,1,18,7],[19,1,19,7],[23,1,23,7],[24,1,24,7],[15,1,15,7]]}
[" ","August - the beginning... inspirational math"]
[]
[null,"SUNDAY","MONDAY","TUESDAY","WEDNESDAY","THURSDAY","FRIDAY","SATURDAY"]
[null,{"$f":"'2018'!J23","v":""},{"$f":"'2018'!K23","v":""},{"$f":"'2018'!L23","v":""},{"$f":"'2018'!M23","v":"2018-08-01"},{"$f":"'2018'!N23","v":"2018-08-02"},{"$f":"'2018'!O23","v":"2018-08-03"},{"$f":"'2018'!P23","v":"2018-08-04"}]
[]
[null,{"$f":"'2018'!J24","v":"2018-08-05"},{"$f":"'2018'!K24","v":"2018-08-06"},{"$f":"'2018'!L24","v":"2018-08-07"},{"$f":"'2018'!M24","v":"2018-08-08"},{"$f":"'2018'!N24","v":"2018-08-09"},{"$f":"'2018'!O24","v":"2018-08-10"},{"$f":"'2018'!P24","v":"2018-08-11"}]
[]
[null,{"$f":"'2018'!J25","v":"2018-08-12"},{"$f":"'2018'!K25","v":"2018-08-13"},{"$f":"'2018'!L25","v":"2018-08-14"},{"$f":"'2018'!M25","v":"2018-08-15"},{"$f":"'2018'!N25","v":"2018-08-16"},{"$f":"'2018'!O25","v":"2018-08-17"},{"$f":"'2018'!P25","v":"2018-08-18"}]
[]
[null,{"$f":"'2018'!J26","v":"2018-08-19"},{"$f":"'2018'!K26","v":"2018-08-20"},{"$f":"'2018'!L26","v":"2018-08-21"},{"$f":"'2018'!M26","v":"2018-08-22"},{"$f":"'2018'!N26","v":"2018-08-23"},{"$f":"'2018'!O26","v":"2018-08-24"},{"$f":"'2018'!P26","v":"2018-08-25"}]
[]
[null,{"$f":"'2018'!J27","v":"2018-08-26"},{"$f":"'2018'!K27","v":"2018-08-27"},{"$f":"'2018'!L27","v":"2018-08-28"},{"$f":"'2018'!M27","v":"2018-08-29"},{"$f":"'2018'!N27","v":"2018-08-30"},{"$f":"'2018'!O27","v":"2018-08-31"},{"$f":"'2018'!P27","v":""}]
[null,"week 1","Honoring Ideas: Wanted: Everyone’s!","Visualizing Numbers Made of Dots!","Folding Geometry with Brain Flip Flops!","Pascal's Triangle ","Growing Shapes"]
[]
[]
[null,"NOTES"]
[null,"week 1: all classes - week of inspirational math - points this week are for participation in the 5 days of activities (effort, attitude, conduct, helpfulness, etc.). Also to complete this week is to sign up on Google Classroom and on Khan Academy. Links to videos for week 1 are below."]
[null,{"$f":"HYPERLINK(\"https://www.youcubed.org/weeks/week-1-grades-5-9/\",\"Link for Inspirational Math\")","v":"Link for Inspirational Math"}]
[null,{"$f":"HYPERLINK(\"https://bhi61nm2cr3mkdgk1dtaov18-wpengine.netdna-ssl.com/wp-content/uploads/2017/06/Day-1-Mindset-8.mp4\",\"Day 1\")","v":"Day 1"}]
[null,{"$f":"HYPERLINK(\"https://bhi61nm2cr3mkdgk1dtaov18-wpengine.netdna-ssl.com/wp-content/uploads/2017/07/Day-2-Brain-Crossing.mp4\",\"Day 2\")","v":"Day 2"}]
[null,{"$f":"HYPERLINK(\"https://bhi61nm2cr3mkdgk1dtaov18-wpengine.netdna-ssl.com/wp-content/uploads/2017/03/Day-3-Speed.mp4\",\"Day 3a\")","v":"Day 3a"},{"$f":"HYPERLINK(\"https://www.youcubed.org/resources/what-is-number-sense/\",\"Day 3b\")","v":"Day 3b"}]
[null,{"$f":"HYPERLINK(\"https://bhi61nm2cr3mkdgk1dtaov18-wpengine.netdna-ssl.com/wp-content/uploads/2017/07/Day-4-Patterns-2.mp4\",\"Day 4\")","v":"Day 4"}]
[null,{"$f":"HYPERLINK(\"https://bhi61nm2cr3mkdgk1dtaov18-wpengine.netdna-ssl.com/wp-content/uploads/2017/03/Day-5-Mistakes.mp4\",\"Day 5\")","v":"Day 5"}]
[null,{"$f":"HYPERLINK(\"https://www.youtube.com/watch?v=-zAAgSRBmMI\",\"Labor Day is September 3rd.\")","v":"Labor Day is September 3rd."}]

{"sheet":"Sep 18","index":2,"n_rows":26,"n_cols":8,"rows_kept":26,"cut":false,"hidden":false,"merged":[[24,1,24,7],[25,1,25,7],[19,1,19,7],[20,1,20,7],[21,1,21,7],[23,1,23,7],[16,1,16,7],[0,1,0,3],[17,1,17,7],[18,1,18,7]]}
[" ","September - fall"]
[]
[null,"SUNDAY","MONDAY","TUESDAY","WEDNESDAY","THURSDAY","FRIDAY","SATURDAY"]
[null,{"$f":"'2018'!R23","v":""},{"$f":"'2018'!S23","v":""},{"$f":"'2018'!T23","v":""},{"$f":"'2018'!U23","v":""},{"$f":"'2018'!V23","v":""},{"$f":"'2018'!W23","v":""},{"$f":"'2018'!X23","v":"2018-09-01"}]
[]
[null,{"$f":"'2018'!R24","v":"2018-09-02"},{"$f":"'2018'!S24","v":"2018-09-03"},{"$f":"'2018'!T24","v":"2018-09-04"},{"$f":"'2018'!U24","v":"2018-09-05"},{"$f":"'2018'!V24","v":"2018-09-06"},{"$f":"'2018'!W24","v":"2018-09-07"},{"$f":"'2018'!X24","v":"2018-09-08"}]
[null,"week 2","Labor Day Holiday",null,"Game/Gaming Club 3:20-4"]
[null,{"$f":"'2018'!R25","v":"2018-09-09"},{"$f":"'2018'!S25","v":"2018-09-10"},{"$f":"'2018'!T25","v":"2018-09-11"},{"$f":"'2018'!U25","v":"2018-09-12"},{"$f":"'2018'!V25","v":"2018-09-13"},{"$f":"'2018'!W25","v":"2018-09-14"},{"$f":"'2018'!X25","v":"2018-09-15"}]
[null,"week 3",{"$f":"HYPERLINK(\"https://www.youtube.com/watch?v=4z7gDsSKUmU\",\"Motivational Monday\")","v":"Motivational Monday"},null,"Game/Gaming Club 3:20-4"]
[null,{"$f":"'2018'!R26","v":"2018-09-16"},{"$f":"'2018'!S26","v":"2018-09-17"},{"$f":"'2018'!T26","v":"2018-09-18"},{"$f":"'2018'!U26","v":"2018-09-19"},{"$f":"'2018'!V26","v":"2018-09-20"},{"$f":"'2018'!W26","v":"2018-09-21"},{"$f":"'2018'!X26","v":"2018-09-22"}]
[null,"week 4",null,null,"Game/Gaming Club 3:20-4"]
[null,{"$f":"'2018'!R27","v":"2018-09-23"},{"$f":"'2018'!S27","v":"2018-09-24"},{"$f":"'2018'!T27","v":"2018-09-25"},{"$f":"'2018'!U27","v":"2018-09-26"},{"$f":"'2018'!V27","v":"2018-09-27"},{"$f":"'2018'!W27","v":"2018-09-28"},{"$f":"'2018'!X27","v":"2018-09-29"}]
[null,"week 5","Project 1 Due",null,"early out 1:30     work on projects"]
[null,{"$f":"'2018'!R28","v":"2018-09-30"},{"$f":"'2018'!S28","v":""},{"$f":"'2018'!T28","v":""},{"$f":"'2018'!U28","v":""},{"$f":"'2018'!V28","v":""},{"$f":"'2018'!W28","v":""},{"$f":"'2018'!X28","v":""}]
[]
[]
[null,"NOTES"]
[null,"Project 1 - Origami Project = 10 points. Make a 3D origami piece from one sheet of paper. Create your own or make one using directions that you find. Write a paragraph about the video, what you thought was interesting, the piece you chose to make and why. Explain your design and what repeating geometric shape is in your design. What are the measures of 3 (different if you have) angles? Due by 9/24. (This is a Science/Math collaborative project for some students - you will watch the video in Science class in early September. If you don't have science class you must watch a minimum of 20 minutes of the video.)"]
[null,{"$f":"HYPERLINK(\"http://www.pbs.org/wgbh/nova/physics/origami-revolution.html\",\"Project 1 link (watch 20 min. minimum)\")","v":"Project 1 link (watch 20 min. minimum)"}]
[null,"Hispanic & Latino Heritage Month 9/15-10/15 Project 2 - Report on a Hispanic or Latino Mathematician = 10 points. Due by 10/15."]
[null,{"$f":"HYPERLINK(\"https://drive.google.com/open?id=12xy1KvScsj4aMJZCjysvhVV5zVohrHLG\",\"Grading rubric link for projects.\")","v":"Grading rubric link for projects."}]
[null,"week 2: 7th - M1L1-3.           8th - M1L1-3.                  A1 - M1L1,2.        G - M1L1-3.         A2 - M1L1-3.      PC - M1L1-3.     "]
[null,{"$f":"HYPERLINK(\"https://www.youtube.com/watch?feature=player_embedded&v=tCKstDXMslQ\",\"link for 7th - M1L1\")","v":"link for 7th - M1L1"},null,{"$f":"HYPERLINK(\"http://www.mrmeyer.com/graphingstories1/graphingstories2.mov\",\"link for A1 - M1L1\")","v":"link for A1 - M1L1"}]
[null,"week 3: 7th - M1L4,5,7,8.     8th - M1L4-7.                  A1 - M1L3-5.        G - M1L4-7.         A2 - M1L4-6.      PC - M1L4-6."]
[null,"week 4: 7th - M1L9-12.         8th - M1L8-11.                A1 - M1L6-8.        G - M1L8-10.       A2 - M1L7-10.    PC - M1L7-9."]
[null,"week 5: 7th - M1L13-15.       8th - M1L12,13,M2L1.    A1 - M1L9-11.      G - M1L11-14.     A2 - M1L11-13.   PC M1L10-12. "]

{"sheet":"Oct 18","index":3,"n_rows":24,"n_cols":8,"rows_kept":24,"cut":false,"hidden":false,"merged":[[21,1,21,7],[20,1,20,7],[16,1,16,7],[17,1,17,7],[18,1,18,7],[19,1,19,7],[23,1,23,7],[22,1,22,7],[15,1,15,7],[0,1,0,3]]}
[" ","October"]
[]
[null,"SUNDAY","MONDAY","TUESDAY","WEDNESDAY","THURSDAY","FRIDAY","SATURDAY"]
[null,{"$f":"'2018'!B32","v":""},{"$f":"'2018'!C32","v":"2018-10-01"},{"$f":"'2018'!D32","v":"2018-10-02"},{"$f":"'2018'!E32","v":"2018-10-03"},{"$f":"'2018'!F32","v":"2018-10-04"},{"$f":"'2018'!G32","v":"2018-10-05"},{"$f":"'2018'!H32","v":"2018-10-06"}]
[null,"week 6",{"$nulls":5},"SAT (optional)"]
[null,{"$f":"'2018'!B33","v":"2018-10-07"},{"$f":"'2018'!C33","v":"2018-10-08"},{"$f":"'2018'!D33","v":"2018-10-09"},{"$f":"'2018'!E33","v":"2018-10-10"},{"$f":"'2018'!F33","v":"2018-10-11"},{"$f":"'2018'!G33","v":"2018-10-12"},{"$f":"'2018'!H33","v":"2018-10-13"}]
[null,"week 7",null,null,"PreSAT for 10th & 11th graders      parent/teacher conferences"]
[null,{"$f":"'2018'!B34","v":"2018-10-14"},{"$f":"'2018'!C34","v":"2018-10-15"},{"$f":"'2018'!D34","v":"2018-10-16"},{"$f":"'2018'!E34","v":"2018-10-17"},{"$f":"'2018'!F34","v":"2018-10-18"},{"$f":"'2018'!G34","v":"2018-10-19"},{"$f":"'2018'!H34","v":"2018-10-20"}]
[null,"week 8","Project 2 Due ",null,null,"no school","no school"]
[null,{"$f":"'2018'!B35","v":"2018-10-21"},{"$f":"'2018'!C35","v":"2018-10-22"},{"$f":"'2018'!D35","v":"2018-10-23"},{"$f":"'2018'!E35","v":"2018-10-24"},{"$f":"'2018'!F35","v":"2018-10-25"},{"$f":"'2018'!G35","v":"2018-10-26"},{"$f":"'2018'!H35","v":"2018-10-27"}]
[null,"week 9"]
[null,{"$f":"'2018'!B36","v":"2018-10-28"},{"$f":"'2018'!C36","v":"2018-10-29"},{"$f":"'2018'!D36","v":"2018-10-30"},{"$f":"'2018'!E36","v":"2018-10-31"},{"$f":"'2018'!F36","v":""},{"$f":"'2018'!G36","v":""},{"$f":"'2018'!H36","v":""}]
[null,"week 10/0",null,null,"Halloween with elementary grades. end of grading quarter"]
[]
[]
[null,"NOTES"]
[null,"week 6:     7th - M1L17-19,M2L1.          8th - M2L2-5.          A1 - M1L12-14.          G - M1L15-18.          A2 - M1L14-17.           PC - M1L13-15."]
[null,"week 7:     7th - M2L2-4.                        8th - M2L6-8.          A1 - M1L15, 16.         G - M1L19-21.          A2 - M1L18,19,22.       PC - M1L20,21."]
[null,"week 8:     7th - M2L5.                           8th - M2L9.             A1 - M1L17.               G - M1L22.                A2 - M1L23.                 PC - M1L22."]
[null,"week 9:     7th - M2L6-9.                        8th - M2L10-13.      A1 - M1L18-20.          G - M1L23-25.          A2 - M1L24-26.            PC - M1L24-26."]
[null,"week 10:   7th - M2L10,11.                    8th - M2L14,15.       A1 - M1L21,22.          G - M1L26,27.          A2 - M1L27,28.            PC - M1L27,28."]
[null,{"$f":"HYPERLINK(\"https://www.va.gov/opa/publications/factsheets/fs_americas_wars.pdf\",\"Veterans Day project link\")","v":"Veterans Day project link"}]
[null,"Veterans Day Project 3 = 10 points. Look at the data in the link and create some interesting visual representations (graphs) from it. What are some conclusions you can draw? Due by 11/13."]
[null,"Halloween - 3rd period with 5th graders"]

{"sheet":"Nov 18","index":4,"n_rows":26,"n_cols":8,"rows_kept":26,"cut":false,"hidden":false,"merged":[[16,1,16,7],[15,1,15,7],[0,1,0,3],[21,1,21,7],[22,1,22,7],[23,1,23,7],[24,1,24,7],[25,1,25,7],[19,1,19,7],[20,1,20,7],[17,1,17,7],[18,1,18,7]]}
[" ","November "]
[]
[null,"SUNDAY","MONDAY","TUESDAY","WEDNESDAY","THURSDAY","FRIDAY","SATURDAY"]
[null,{"$f":"'2018'!J32","v":""},{"$f":"'2018'!K32","v":""},{"$f":"'2018'!L32","v":""},{"$f":"'2018'!M32","v":""},{"$f":"'2018'!N32","v":"2018-11-01"},{"$f":"'2018'!O32","v":"2018-11-02"},{"$f":"'2018'!P32","v":"2018-11-03"}]
[null,"week 0",null,null,null,"new grading quarter begins"]
[null,{"$f":"'2018'!J33","v":"2018-11-04"},{"$f":"'2018'!K33","v":"2018-11-05"},{"$f":"'2018'!L33","v":"2018-11-06"},{"$f":"'2018'!M33","v":"2018-11-07"},{"$f":"'2018'!N33","v":"2018-11-08"},{"$f":"'2018'!O33","v":"2018-11-09"},{"$f":"'2018'!P33","v":"2018-11-10"}]
[null,"week 1"]
[null,{"$f":"'2018'!J34","v":"2018-11-11"},{"$f":"'2018'!K34","v":"2018-11-12"},{"$f":"'2018'!L34","v":"2018-11-13"},{"$f":"'2018'!M34","v":"2018-11-14"},{"$f":"'2018'!N34","v":"2018-11-15"},{"$f":"'2018'!O34","v":"2018-11-16"},{"$f":"'2018'!P34","v":"2018-11-17"}]
[null,"week 2","Veterans Day","Project 3 Due"]
[null,{"$f":"'2018'!J35","v":"2018-11-18"},{"$f":"'2018'!K35","v":"2018-11-19"},{"$f":"'2018'!L35","v":"2018-11-20"},{"$f":"'2018'!M35","v":"2018-11-21"},{"$f":"'2018'!N35","v":"2018-11-22"},{"$f":"'2018'!O35","v":"2018-11-23"},{"$f":"'2018'!P35","v":"2018-11-24"}]
[null,"week 3",null,null,"....................Thanksgiving Holiday............................................."]
[null,{"$f":"'2018'!J36","v":"2018-11-25"},{"$f":"'2018'!K36","v":"2018-11-26"},{"$f":"'2018'!L36","v":"2018-11-27"},{"$f":"'2018'!M36","v":"2018-11-28"},{"$f":"'2018'!N36","v":"2018-11-29"},{"$f":"'2018'!O36","v":"2018-11-30"},{"$f":"'2018'!P36","v":""}]
[null,"week 4",{"$nulls":4}," "]
[]
[]
[null,"NOTES"]
[null,{"$f":"HYPERLINK(\"https://docs.google.com/document/d/18TaCx1T93Epaip8ESr5dXsb2yApg8YYef6WB8Hyd8mM/edit\",\"Grading rubric link for projects\")","v":"Grading rubric link for projects"}]
[null,{"$f":"HYPERLINK(\"https://www.va.gov/opa/publications/factsheets/fs_americas_wars.pdf\",\"Veterans Day project link\")","v":"Veterans Day project link"}]
[null,"Veterans Day Project 3 = 10 points. Look at the data in the link and create some interesting visual representations (graphs) from it. What are some conclusions you can draw? Due by 11/13."]
[null,{"$f":"HYPERLINK(\"https://opi.mt.gov/Educators/Teaching-Learning/Indian-Education/Mathematics\",\"Indian Education For All project link.\")","v":"Indian Education For All project link."}]
[null,"American Indian & Alaska Native Heritage Month Project 4 = 10 points. See link above for ideas and see grading rubric. You may work with any grade level project. Due by 12/7."]
[null,"week 0: 7th - M2L12,13.               8th - M2L16,M3L1.     A1 - M1L23.                G - M1L28,29.            A2 - M1L29,30.             PC - M1L29.             "]
[null,"week 1: 7th - M2L14-17.               8th - M3L2-5.              A1 - M1L24-26.          G - M1L30-33.            A2 - M1L31-34.             PC - M1L30,M2L1,2."]
[null,"week 2: 7th - M2L18-20.               8th - M3L6-8.              A1 - M1L28,M2L1,2.  G - M1L34,M2L1,2.    A2 - M1L36-38.             PC - M2L3-5. "]
[null,"week 3: 7th - Project.                    8th - Project.               A1 - Project.               G - Project.                 A2 - Project.                  PC - Project."]
[null,"week 4: 7th - M2L21-23,M3L1.     8th - M3L9-12.            A1 - M2L3-5.              G - M2L3-5.                A2 - M1L39,40,M2L1    PC - M2L6-8. "]

{"sheet":"Dec 18","index":5,"n_rows":26,"n_cols":8,"rows_kept":26,"cut":false,"hidden":false,"merged":[[18,1,18,7],[19,1,19,7],[17,1,17,7],[0,1,0,3],[24,1,24,7],[23,1,23,7],[25,1,25,7],[26,1,26,7],[27,1,27,7],[22,1,22,7]]}
[" ","December - winter"]
[]
[null,"SUNDAY","MONDAY","TUESDAY","WEDNESDAY","THURSDAY","FRIDAY","SATURDAY"]
[null,{"$f":"'2018'!R32","v":""},{"$f":"'2018'!S32","v":""},{"$f":"'2018'!T32","v":""},{"$f":"'2018'!U32","v":""},{"$f":"'2018'!V32","v":""},{"$f":"'2018'!W32","v":""},{"$f":"'2018'!X32","v":"2018-12-01"}]
[]
[null,{"$f":"'2018'!R33","v":"2018-12-02"},{"$f":"'2018'!S33","v":"2018-12-03"},{"$f":"'2018'!T33","v":"2018-12-04"},{"$f":"'2018'!U33","v":"2018-12-05"},{"$f":"'2018'!V33","v":"2018-12-06"},{"$f":"'2018'!W33","v":"2018-12-07"},{"$f":"'2018'!X33","v":"2018-12-08"}]
[null,"week 5",{"$nulls":4},"Project 4 Due"]
[null,9.0,{"$f":"'2018'!S34","v":"2018-12-10"},{"$f":"'2018'!T34","v":"2018-12-11"},{"$f":"'2018'!U34","v":"2018-12-12"},{"$f":"'2018'!V34","v":"2018-12-13"},{"$f":"'2018'!W34","v":"2018-12-14"},{"$f":"'2018'!X34","v":"2018-12-15"}]
[null,"week 6"]
[null,{"$f":"'2018'!R35","v":"2018-12-16"},{"$f":"'2018'!S35","v":"2018-12-17"},{"$f":"'2018'!T35","v":"2018-12-18"},{"$f":"'2018'!U35","v":"2018-12-19"},{"$f":"'2018'!V35","v":"2018-12-20"},{"$f":"'2018'!W35","v":"2018-12-21"},{"$f":"'2018'!X35","v":"2018-12-22"}]
[null,"week 7"]
[null,{"$f":"'2018'!R36","v":"2018-12-23"},{"$f":"'2018'!S36","v":"2018-12-24"},{"$f":"'2018'!T36","v":"2018-12-25"},{"$f":"'2018'!U36","v":"2018-12-26"},{"$f":"'2018'!V36","v":"2018-12-27"},{"$f":"'2018'!W36","v":"2018-12-28"},{"$f":"'2018'!X36","v":"2018-12-29"}]
[null,null,"...................................................Winter Break.............................................................................................."]
[null,{"$f":"'2018'!R37","v":"2018-12-30"},{"$f":"'2018'!S37","v":"2018-12-31"},{"$f":"'2018'!T37","v":""},{"$f":"'2018'!U37","v":""},{"$f":"'2018'!V37","v":""},{"$f":"'2018'!W37","v":""},{"$f":"'2018'!X37","v":""}]
[null,null,"..............................."]
[]
[]
[null,"NOTES"]
[null,{"$f":"HYPERLINK(\"https://opi.mt.gov/Educators/Teaching-Learning/Indian-Education/Mathematics\",\"Indian Education For All project link.\")","v":"Indian Education For All project link."}]
[null,"American Indian & Alaska Native Heritage Month Project 4 = 10 points. See link above for ideas and see grading rubric. You may work with any grade level project. Due by 12/7."]
[null,"Creative math Project 5 = 10 points. Pick something you are interested in researching or making. Due 1/31. "]
[null,{"$f":"HYPERLINK(\"https://docs.google.com/document/d/12Mvh6Sta83_ObYEUFwkOk0k4r3IkkqODVu10SI0Wlf8/edit\",\"Here is a link with some cool ideas for Project 5.\")","v":"Here is a link with some cool ideas for Project 5."}]
[null,{"$f":"HYPERLINK(\"https://docs.google.com/document/d/18TaCx1T93Epaip8ESr5dXsb2yApg8YYef6WB8Hyd8mM/edit\",\"Grading rubric link for projects\")","v":"Grading rubric link for projects"}]
[null,"week 5:    7th - M3L2-5.          8th - M3L13,14,M4L1,2.          A1 - M2L6-8.               G - M2L6-9.          A2 - M2L3-6.          PC - M2L10-12. "]
[null,"week 6:    7th - M3L6-8.          8th - M4L3-5.                           A1 - M2L9-11.             G - M2L10-12.      A2 - M2L7-9.          PC - M2L13-15. "]
[null,"week 7:    7th - M3L9-12.        8th - M4L6-9.                           A1 - M2L12,13,19.      G - M2L13-16.      A2 - M2L10-12.      PC - M2L16-18."]

{"sheet":"Jan 19","index":6,"n_rows":25,"n_cols":8,"rows_kept":25,"cut":false,"hidden":false,"merged":[[22,1,22,7],[21,1,21,7],[20,1,20,7],[18,1,18,7],[23,1,23,7],[24,1,24,7],[25,1,25,7],[15,1,15,7],[0,1,0,3]]}
[" ","January"]
[]
[null,"SUNDAY","MONDAY","TUESDAY","WEDNESDAY","THURSDAY","FRIDAY","SATURDAY"]
[null,{"$f":"'2018'!B6","v":""}," ",1.0,2.0,3.0,4.0,5.0]
[null,"week 8",null,"................................................................."]
[null,6.0,7.0,8.0,9.0,10.0,11.0,12.0]
[null,"week 9"]
[null,13.0,14.0,15.0,16.0,17.0,18.0,19.0]
[null,"week 10/0",null,null,"work on projects      end of grading quarter","new grading quarter begins"]
[null,20.0,21.0,22.0,23.0,24.0,25.0,26.0]
[null,"week 1",{"$f":"HYPERLINK(\"https://www.youtube.com/watch?v=4xXZhXTFWnE\",\"Martin Luther King Jr. Day\")","v":"Martin Luther King Jr. Day"}]
[null,27.0,28.0,29.0,30.0,31.0,{"$f":"'2018'!G10","v":""},{"$f":"'2018'!H10","v":""}]
[null,"week 2",null,null,"work on projects   early out 1:30    ","Project 5 due"]
[]
[]
[null,"NOTES"]
[null,"Creative Math Project 5 = 10 points. Pick something you are interested in researching or making. Due 1/31. "]
[null,{"$f":"HYPERLINK(\"https://docs.google.com/document/d/12Mvh6Sta83_ObYEUFwkOk0k4r3IkkqODVu10SI0Wlf8/edit\",\"Here is a link with some cool ideas for Project 5.\")","v":"Here is a link with some cool ideas for Project 5."}]
[null,{"$f":"HYPERLINK(\"https://docs.google.com/document/d/18TaCx1T93Epaip8ESr5dXsb2yApg8YYef6WB8Hyd8mM/edit\",\"Grading rubric link for projects\")","v":"Grading rubric link for projects"}]
[null,"week 8:   7th - M3L13.                       8th - M4L10.               A1 - M2L20.               G - M2L17.               A2 - M2L13.               PC - M2L19."]
[null,"week 9:   7th - M3L14-17                   8th - M4L11-14.          A1 - M3L1-3.              G - M2L18-20.         A2 - M2L14-17.          PC - M2L21-23."]
[null,"week 10: 7th - M3L18,19.                  8th - M4L15,16.          A1 - M3L4.                 G - M2L21-22.         A2 - M3L1.                  PC - M2L24."]
[null,"week 0:   7th - M3L20,21.                  8th - M4L17,18.          A1 - M3L5,6.              G - M2L23-24.         A2 - M3L2,3.               PC - M3L1,2,4."]
[null,"week 1:   7th - M3L22-24.                  8th - M4L19-21.          A1 - M3L7,8.              G - M2L25-27.         A2 - M3L4-6.              PC - M3L5,6."]
[null,"week 2:   7th - M3L25,26,M4L1.        8th - M4L22-24.          A1 - M3L9,10.            G - M2L28-30.         A2 - M3L7,8,10.         PC - M3L7-9."]

{"sheet":"Feb 19","index":7,"n_rows":23,"n_cols":8,"rows_kept":23,"cut":false,"hidden":false,"merged":[[18,1,18,7],[19,1,19,7],[20,1,20,7],[21,1,21,7],[22,1,22,7],[23,1,23,7],[15,1,15,7],[0,1,0,3],[16,1,16,7],[17,1,17,7]]}
[" ","February "]
[]
[null,"SUNDAY","MONDAY","TUESDAY","WEDNESDAY","THURSDAY","FRIDAY","SATURDAY"]
[null,{"$f":"'2018'!J6","v":""},{"$f":"'2018'!K6","v":""},{"$f":"'2018'!L6","v":""},{"$f":"'2018'!M6","v":""}," ",1.0,2.0]
[null,"week 2"]
[null,3.0,4.0,5.0,6.0,7.0,8.0,9.0]
[null,"week 3"]
[null,10.0,11.0,12.0,13.0,14.0,15.0,16.0]
[null,"week 4",null,null,null,"Valentines Day with elementary grades"]
[null,17.0,18.0,19.0,20.0,21.0,22.0,23.0]
[null,"week 5","President's Day Holiday"]
[null,24.0,25.0,26.0,27.0,28.0,{"$f":"'2018'!O10","v":""},{"$f":"'2018'!P10","v":""}]
[null,"week 6",null,null,"work on projects   parent/teacher conferences     early out 1:30","Project 6 Due"]
[]
[]
[null,"NOTES"]
[null,"Black History Month Project 6 - Report on a African American Mathematician = 10 points. Due by 2/28."]
[null,{"$f":"HYPERLINK(\"https://docs.google.com/document/d/18TaCx1T93Epaip8ESr5dXsb2yApg8YYef6WB8Hyd8mM/edit\",\"Grading rubric link for projects\")","v":"Grading rubric link for projects"}]
[null,"week 2: 7th - M4L2.                    8th - M4L25.                    A1 - M3L11.                    G - M2L31.                    A2 - M3L11.               PC - M3L10."]
[null,"week 3: 7th - M4L3,4,6,7.           8th - M4L26-29.               A1 - M3L12,13,15.          G - M2L32-34.              A2 - M3L12-14.          PC - M3L11-13."]
[null,"week 4: 7th - M4L8-10.               8th - M4L30,M5L1,2.       A1 - M3L16,17.               G - M3L1-3.                  A2 - M3L15-17.          PC - M3L14,15."]
[null,"week 5: 7th - M4L11-13.             8th - M5L3-5.                   A1 - M3L18-20.               G - M3L4-6.                  A2 - M3L18-20.          PC - M3L16-18."]
[null,"week 6: 7th - M4L14,15,17.        8th - M5L6-8.                   A1 - M3L21,23.               G - M3L7-9.                  A2 - M3L21,22,24.      PC - M3L19-21."]

{"sheet":"Mar 19","index":8,"n_rows":25,"n_cols":8,"rows_kept":25,"cut":false,"hidden":false,"merged":[[19,1,19,7],[20,1,20,7],[21,1,21,7],[22,1,22,7],[17,1,17,7],[0,1,0,3],[18,1,18,7],[23,1,23,7],[24,1,24,7]]}
[" ","March - spring"]
[]
[null,"SUNDAY","MONDAY","TUESDAY","WEDNESDAY","THURSDAY","FRIDAY","SATURDAY"]
[null,{"$f":"'2018'!R6","v":""},{"$f":"'2018'!S6","v":""},{"$f":"'2018'!T6","v":""},{"$f":"'2018'!U6","v":""}," ",1.0,2.0]
[null,"week 6"]
[null,3.0,4.0,5.0,6.0,7.0,8.0,9.0]
[null,"week 7",{"$nulls":5},"SAT (optional)"]
[null,10.0,11.0,12.0,13.0,14.0,15.0,16.0]
[null,"week 8",null,null,null,"Pi Day"]
[null,17.0,18.0,19.0,20.0,21.0,22.0,23.0]
[null,"week 9/0",null,"Project 7 Due","end of grading quarter","new grading quarter begins","..............................."]
[null,24.0,25.0,26.0,27.0,28.0,29.0,30.0]
[null,null,"..........................................................................Spring Break ......................................................................."]
[null,31.0," "," "," "," "," "," "]
[]
[]
[]
[null,"NOTES"]
[null,"Woman's History Month Project 7 - Report on a female mathematician = 10 points. Due by 3/19."]
[null,{"$f":"HYPERLINK(\"https://docs.google.com/document/d/18TaCx1T93Epaip8ESr5dXsb2yApg8YYef6WB8Hyd8mM/edit\",\"Grading rubric link for projects\")","v":"Grading rubric link for projects"}]
[null,"week 6: 7th - M4L18.                      8th - M5L9.                         A1 - M3L24.                  G - M3L10.               A2 - M3L25.             PC - M4L1."]
[null,"week 7: 7th - M5L2-5.                     8th - M5L10,11,M6L1,2.     A1 - M4L1-3.                 G - M3L11-13.         A2 - M3L26,27.        PC - M4L2-4."]
[null,"week 8: 7th - M5L6,7,10.                8th - M6L3-5.                      A1 - M4L4,5.                 G - M4L1-3.             A2 - M3L28,29.        PC - M4L6,7."]
[null,"week 9: 7th - M5L12,14.                 8th - M6L6,7.                      A1 - M4L6,7.                 G - M4L4.                A2 - M3L30,31.        PC - M4L8,9."]
[null,"week 0: 7th - M5L15.                      8th - M6L8.                         A1 - M4L8.                    G - M4L5.                A2 - ACT Prep.        PC - M4L10."]

{"sheet":"Apr 19","index":9,"n_rows":24,"n_cols":8,"rows_kept":24,"cut":false,"hidden":false,"merged":[[19,1,19,7],[20,1,20,7],[21,1,21,7],[22,1,22,7],[23,1,23,7],[24,1,24,7],[15,1,15,7],[0,1,0,3],[16,1,16,7],[18,1,18,7]]}
[" ","April "]
[]
[null,"SUNDAY","MONDAY","TUESDAY","WEDNESDAY","THURSDAY","FRIDAY","SATURDAY"]
[null," ",1.0,2.0,3.0,4.0,5.0,6.0]
[null,"week 1",null,"ACT - 11th             PACT - 10th         7th & 8th - SBAC"]
[null,7.0,8.0,9.0,10.0,11.0,12.0,13.0]
[null,"week 2"]
[null,14.0,15.0,16.0,17.0,18.0,19.0,20.0]
[null,"week 3"]
[null,21.0,22.0,23.0,24.0,25.0,26.0,27.0]
[null,"week 4",null,"Project 8 Due"]
[null,28.0,29.0,30.0,{"$f":"'2018'!E18","v":""},{"$f":"'2018'!F18","v":""},{"$f":"'2018'!G18","v":""},{"$f":"'2018'!H18","v":""}]
[null,"week 5"]
[]
[]
[null,"NOTES"]
[null,"Earth Day Project 8 - Research how to save the planet topic is your choice. Garbage, polution, plastic, recycling, over population, etc. = 10 points. Due by 4/23."]
[null,"Math Awareness Month Project 9 - Make math more fun and spread the importance of math. Creative project. = 10 points. Due by 5/17."]
[null,{"$f":"HYPERLINK(\"https://docs.google.com/document/d/18TaCx1T93Epaip8ESr5dXsb2yApg8YYef6WB8Hyd8mM/edit\",\"Grading rubric link for projects\")","v":"Grading rubric link for projects"}]
[null,"week 1: 7th - M5L16,17,19,20.  8th - M6L9-11.      A1 - M4L9-11.      G - M4L6-8.                    A2 - M3L32,33,M4L1.     PC - M4L11,12,M5L1."]
[null,"week 2: 7th - M6L1-3.                8th - M6L12-14.    A1 - M4L12,13.    G - M4L9-11.                  A2 - M4L2-4.                   PC - M5L2-4."]
[null,"week 3: 7th - M6L4,5,6,8.          8th - M7L1-3.        A1 - M4L14-16.    G - M4L12,13,M5L1,2.   A2 - M4L5-7.                   PC - M5L5-7."]
[null,"week 4: 7th - M6L9,10,13.         8th - M7L4-6.        A1 - M4L17,18.    G - M5L3-5.                    A2 - M4L8-10.                 PC - M5L8,9."]
[null,"week 5: 7th - M6L14-16.            8th - M7L8,9.        A1 - M4L19.         G - M5L6,7.                    A2 - M4L11,12.               PC - M5L10."]

{"sheet":"May 19","index":10,"n_rows":25,"n_cols":8,"rows_kept":25,"cut":false,"hidden":false,"merged":[[18,1,18,7],[17,1,17,7],[20,1,20,7],[21,1,21,7],[22,1,22,7],[23,1,23,7],[24,1,24,7],[15,1,15,7],[0,1,0,3],[19,1,19,7]]}
[" ","May"]
[]
[null,"SUNDAY","MONDAY","TUESDAY","WEDNESDAY","THURSDAY","FRIDAY","SATURDAY"]
[null,{"$f":"'2018'!J14","v":""},{"$f":"'2018'!K14","v":""}," ",1.0,2.0,3.0,4.0]
[null,"week 5"]
[null,5.0,6.0,7.0,8.0,9.0,10.0,11.0]
[null,"week 6"]
[null,12.0,13.0,14.0,15.0,16.0,17.0,18.0]
[null,"week 7",{"$nulls":4},"Project 9 Due"]
[null,19.0,20.0,21.0,22.0,23.0,24.0,25.0]
[null,"week 8"]
[null,26.0,27.0,28.0,29.0,30.0,31.0,{"$f":"'2018'!P18","v":""}]
[null,"week 9",{"$f":"HYPERLINK(\"https://www.youtube.com/watch?v=xWn2RPr-GhE\",\"Memorial Day Holiday\")","v":"Memorial Day Holiday"},null,null,"last day of school "]
[]
[]
[null,"NOTES"]
[null,"Math Awareness Project 9 - Make math more fun and spread the importance of math. Creative project. = 10 points. Due by 5/17."]
[null,{"$f":"HYPERLINK(\"https://docs.google.com/document/d/18TaCx1T93Epaip8ESr5dXsb2yApg8YYef6WB8Hyd8mM/edit\",\"Grading rubric link for projects\")","v":"Grading rubric link for projects"}]
[null,"week 5: 7th - M6L17,18.          8th - M7L10,11.                  A1 - M4L20,21.              G - M5L8,9.                 A2 - M4L13,15.            PC - M5L11-13."]
[null,"week 6: 7th - M6L19-21.          8th - M7L13,15,16.            A1 - M4L23,24.               G - M5L10-12.            A2 - M4L17,20,21.        PC - M5L14-16. "]
[null,"week 7: 7th - M6L22-25.          8th - M7L17-19,21.            A1 - M5L2-4.                   G - M5L13-16.            A2 - M4L23-25.            PC - M5L17-19."]
[null,"week 8: 7th - M6L26,27.          8th - M7L22,23.                 A1 - M5L5,8.                    G - M5L17,18.            A2 - M4L26,30.            "]
[null,"week 9: Final Exam and Fun Activities. "]
[null,{"$f":"HYPERLINK(\"https://www.edutopia.org/blog/powerful-way-to-end-school-year-donna-wilson-marcus-conyers\",\"Final Exam\")","v":"Final Exam"}]
[null,{"$f":"HYPERLINK(\"https://www.edutopia.org/blog/celebrating-end-of-school-year-vicki-davis\",\"Fun Activities\")","v":"Fun Activities"}]